BEGIN:VCALENDAR
VERSION:2.0
PRODID:-//The Natick Center Cultural District - ECPv6.15.20//NONSGML v1.0//EN
CALSCALE:GREGORIAN
METHOD:PUBLISH
X-WR-CALNAME:The Natick Center Cultural District
X-ORIGINAL-URL:https://natickcenter.org
X-WR-CALDESC:Events for The Natick Center Cultural District
REFRESH-INTERVAL;VALUE=DURATION:PT1H
X-Robots-Tag:noindex
X-PUBLISHED-TTL:PT1H
BEGIN:VTIMEZONE
TZID:America/New_York
BEGIN:DAYLIGHT
TZOFFSETFROM:-0500
TZOFFSETTO:-0400
TZNAME:EDT
DTSTART:20250309T070000
END:DAYLIGHT
BEGIN:STANDARD
TZOFFSETFROM:-0400
TZOFFSETTO:-0500
TZNAME:EST
DTSTART:20251102T060000
END:STANDARD
BEGIN:DAYLIGHT
TZOFFSETFROM:-0500
TZOFFSETTO:-0400
TZNAME:EDT
DTSTART:20260308T070000
END:DAYLIGHT
BEGIN:STANDARD
TZOFFSETFROM:-0400
TZOFFSETTO:-0500
TZNAME:EST
DTSTART:20261101T060000
END:STANDARD
BEGIN:DAYLIGHT
TZOFFSETFROM:-0500
TZOFFSETTO:-0400
TZNAME:EDT
DTSTART:20270314T070000
END:DAYLIGHT
BEGIN:STANDARD
TZOFFSETFROM:-0400
TZOFFSETTO:-0500
TZNAME:EST
DTSTART:20271107T060000
END:STANDARD
END:VTIMEZONE
BEGIN:VEVENT
DTSTART;TZID=America/New_York:20260420T090000
DTEND;TZID=America/New_York:20260420T120000
DTSTAMP:20260420T022025
CREATED:20260319T191546Z
LAST-MODIFIED:20260319T191546Z
UID:10007573-1776675600-1776686400@natickcenter.org
SUMMARY:Rock & Run at Mile 10
DESCRIPTION:Join the Natick Center Cultural District on Marathon Monday for music and activities near the gazebo on Natick Common. Rock & Run at Mile 10 will feature Natick’s School of Rock House Band and booths on the Common. \nIf you are interested in running an activity booth on Natick Common on Marathon Monday\, please email executivedirector@natickcenter.org.
URL:https://natickcenter.org/event/rock-run-at-mile-10-2/
LOCATION:Natick Common
CATEGORIES:Community Events,FREE
ATTACH;FMTTYPE=image/png:https://natickcenter.org/wp-content/uploads/2026/03/Rock-and-Run-FB-Final.png
END:VEVENT
END:VCALENDAR