BEGIN:VCALENDAR
VERSION:2.0
PRODID:-//The Natick Center Cultural District - ECPv6.15.20//NONSGML v1.0//EN
CALSCALE:GREGORIAN
METHOD:PUBLISH
X-ORIGINAL-URL:https://natickcenter.org
X-WR-CALDESC:Events for The Natick Center Cultural District
REFRESH-INTERVAL;VALUE=DURATION:PT1H
X-Robots-Tag:noindex
X-PUBLISHED-TTL:PT1H
BEGIN:VTIMEZONE
TZID:America/New_York
BEGIN:DAYLIGHT
TZOFFSETFROM:-0500
TZOFFSETTO:-0400
TZNAME:EDT
DTSTART:20230312T070000
END:DAYLIGHT
BEGIN:STANDARD
TZOFFSETFROM:-0400
TZOFFSETTO:-0500
TZNAME:EST
DTSTART:20231105T060000
END:STANDARD
BEGIN:DAYLIGHT
TZOFFSETFROM:-0500
TZOFFSETTO:-0400
TZNAME:EDT
DTSTART:20240310T070000
END:DAYLIGHT
BEGIN:STANDARD
TZOFFSETFROM:-0400
TZOFFSETTO:-0500
TZNAME:EST
DTSTART:20241103T060000
END:STANDARD
BEGIN:DAYLIGHT
TZOFFSETFROM:-0500
TZOFFSETTO:-0400
TZNAME:EDT
DTSTART:20250309T070000
END:DAYLIGHT
BEGIN:STANDARD
TZOFFSETFROM:-0400
TZOFFSETTO:-0500
TZNAME:EST
DTSTART:20251102T060000
END:STANDARD
BEGIN:DAYLIGHT
TZOFFSETFROM:-0500
TZOFFSETTO:-0400
TZNAME:EDT
DTSTART:20260308T070000
END:DAYLIGHT
BEGIN:STANDARD
TZOFFSETFROM:-0400
TZOFFSETTO:-0500
TZNAME:EST
DTSTART:20261101T060000
END:STANDARD
BEGIN:DAYLIGHT
TZOFFSETFROM:-0500
TZOFFSETTO:-0400
TZNAME:EDT
DTSTART:20270314T070000
END:DAYLIGHT
BEGIN:STANDARD
TZOFFSETFROM:-0400
TZOFFSETTO:-0500
TZNAME:EST
DTSTART:20271107T060000
END:STANDARD
END:VTIMEZONE
BEGIN:VEVENT
DTSTART;TZID=America/New_York:20240504T130000
DTEND;TZID=America/New_York:20240504T160000
DTSTAMP:20260423T065617
CREATED:20240202T215914Z
LAST-MODIFIED:20240604T151450Z
UID:10006653-1714827600-1714838400@natickcenter.org
SUMMARY:2024-Art in Bloom
DESCRIPTION:View the Natick Garden Club’s unique floral arrangements inspired by books and by Natick Art Association Artists.
URL:https://natickcenter.org/event/2024-art-in-bloom/2024-05-04/
LOCATION:Morse Institute Library
CATEGORIES:Arts Classes and Education,Community Events,Featured,FREE
ATTACH;FMTTYPE=application/pdf:https://natickcenter.org/wp-content/uploads/2024/02/ArtInBloomFlyer.2024.pdf
END:VEVENT
BEGIN:VEVENT
DTSTART;TZID=America/New_York:20240505T130000
DTEND;TZID=America/New_York:20240505T160000
DTSTAMP:20260423T065617
CREATED:20240202T215914Z
LAST-MODIFIED:20240604T151450Z
UID:10006654-1714914000-1714924800@natickcenter.org
SUMMARY:2024-Art in Bloom
DESCRIPTION:View the Natick Garden Club’s unique floral arrangements inspired by books and by Natick Art Association Artists.
URL:https://natickcenter.org/event/2024-art-in-bloom/2024-05-05/
LOCATION:Morse Institute Library
CATEGORIES:Arts Classes and Education,Community Events,Featured,FREE
ATTACH;FMTTYPE=application/pdf:https://natickcenter.org/wp-content/uploads/2024/02/ArtInBloomFlyer.2024.pdf
END:VEVENT
BEGIN:VEVENT
DTSTART;TZID=America/New_York:20240507T170000
DTEND;TZID=America/New_York:20240507T183000
DTSTAMP:20260423T065617
CREATED:20240409T152019Z
LAST-MODIFIED:20240409T152659Z
UID:10006701-1715101200-1715106600@natickcenter.org
SUMMARY:Zentangle
DESCRIPTION:The Zentangle® Method is an easy-to-learn\, relaxing\, and fun way to create beautiful images by drawing structured patterns (called tangles). In this workshop at the Bacon Free Library\, learn the history of Zentangle\, the basic steps of the method\, and the tools used. Through step-by-step instructions\, you will be immersed in creating an original Zentangle tile.\n \nNo artistic talent or experience is required. All supplies will be provided.\n \nRachel Slate-Ziman is a Certified Zentangle Teacher (CZT)\, educated by the creators of Zentangle\, Rick Roberts and Maria Thomas. She has been learning and practicing the Zentangle Method for many years.\n  \nRegistration is required.
URL:https://natickcenter.org/event/zentangle/
LOCATION:Bacon Free Library – 58 Eliot Street  Natick\, MA 01760 United States
CATEGORIES:Arts Classes and Education,FREE,Library
ATTACH;FMTTYPE=image/jpeg:https://natickcenter.org/wp-content/uploads/2024/04/zentangle.jpg
END:VEVENT
BEGIN:VEVENT
DTSTART;TZID=America/New_York:20240511T190000
DTEND;TZID=America/New_York:20240511T210000
DTSTAMP:20260423T065617
CREATED:20240425T181137Z
LAST-MODIFIED:20240425T181137Z
UID:10006032-1715454000-1715461200@natickcenter.org
SUMMARY:Singing in the Rain Jr.
DESCRIPTION:Join us for an unforgettable night of toe-tapping tunes and delightful dance numbers at Singin’ in the Rain Jr.! Get ready to be transported to the golden age of Hollywood as talented young performers take the stage to bring this beloved musical to life. \n\n\nTaking place at the MassBay Community College Wellesley Hills Campus\, this in-person event on Saturday\, May 11\, 2024 at 7:00 PM (EDT) and Sunday\, May 12\, 2024 at 1:00 pm (EDT) promises to be a night filled with laughter\, romance\, and plenty of rain-soaked fun! You won’t want to miss the chance to see these talented young stars shine as they sing and dance their hearts out. \nWhether you’re a fan of the classic film or simply love musical theater\, Singin’ in the Rain Jr. is a must-see event. So grab your umbrella and prepare to be swept away by the magic of this timeless story. Don’t forget to invite your friends and family for a night of pure entertainment that will leave you humming along to the catchy tunes long after the final curtain call. \n\n\n\n\nSingin’ in the Rain Jr.\n\n\nMay 11\, 2024\, 7:00 PM – 9:00 PM EDT\nWellesley\, 50 Oakland St\, Wellesley\, MA 02481\, USA
URL:https://natickcenter.org/event/singing-in-the-rain-jr/2024-05-11/
CATEGORIES:Arts Classes and Education,Children's Events
ATTACH;FMTTYPE=image/jpeg:https://natickcenter.org/wp-content/uploads/2024/04/Singing-in-the-Rain.jpg
END:VEVENT
BEGIN:VEVENT
DTSTART;TZID=America/New_York:20240512T190000
DTEND;TZID=America/New_York:20240512T210000
DTSTAMP:20260423T065617
CREATED:20240425T181137Z
LAST-MODIFIED:20240425T181137Z
UID:10006033-1715540400-1715547600@natickcenter.org
SUMMARY:Singing in the Rain Jr.
DESCRIPTION:Join us for an unforgettable night of toe-tapping tunes and delightful dance numbers at Singin’ in the Rain Jr.! Get ready to be transported to the golden age of Hollywood as talented young performers take the stage to bring this beloved musical to life. \n\n\nTaking place at the MassBay Community College Wellesley Hills Campus\, this in-person event on Saturday\, May 11\, 2024 at 7:00 PM (EDT) and Sunday\, May 12\, 2024 at 1:00 pm (EDT) promises to be a night filled with laughter\, romance\, and plenty of rain-soaked fun! You won’t want to miss the chance to see these talented young stars shine as they sing and dance their hearts out. \nWhether you’re a fan of the classic film or simply love musical theater\, Singin’ in the Rain Jr. is a must-see event. So grab your umbrella and prepare to be swept away by the magic of this timeless story. Don’t forget to invite your friends and family for a night of pure entertainment that will leave you humming along to the catchy tunes long after the final curtain call. \n\n\n\n\nSingin’ in the Rain Jr.\n\n\nMay 11\, 2024\, 7:00 PM – 9:00 PM EDT\nWellesley\, 50 Oakland St\, Wellesley\, MA 02481\, USA
URL:https://natickcenter.org/event/singing-in-the-rain-jr/2024-05-12/
CATEGORIES:Arts Classes and Education,Children's Events
ATTACH;FMTTYPE=image/jpeg:https://natickcenter.org/wp-content/uploads/2024/04/Singing-in-the-Rain.jpg
END:VEVENT
BEGIN:VEVENT
DTSTART;TZID=America/New_York:20240521T170000
DTEND;TZID=America/New_York:20240521T183000
DTSTAMP:20260423T065617
CREATED:20240227T164009Z
LAST-MODIFIED:20240402T171847Z
UID:10006001-1716310800-1716316200@natickcenter.org
SUMMARY:Slow Stitching
DESCRIPTION:Fabric artist Helen Bellomo is back by popular demand for another Slow Stitching class at the Bacon Free Library. \nIn a busy and chaotic world\, sometimes we just need to slow down and not worry about creating a product; instead we can enjoy the process. Slow stitching is a mindful needlework process that focuses on intention and the joy of being in the present moment. Join us to learn about slow stitching. A kit (includes base fabric\, patchwork fabric pieces\, lace\, trims\, buttons\, needle\, and thread) will be provided to all registered participants. \nThis program is geared towards all ages. Children under 10 must be accompanied by a caregiver. \nThis workshop is limited to 10 participants. Registration is required.
URL:https://natickcenter.org/event/slow-stitching52124/
LOCATION:Bacon Free Library – 58 Eliot Street  Natick\, MA 01760 United States
CATEGORIES:Arts Classes and Education,Family Friendly,Library
ATTACH;FMTTYPE=image/jpeg:https://natickcenter.org/wp-content/uploads/2024/02/button-thread.jpg
END:VEVENT
BEGIN:VEVENT
DTSTART;TZID=America/New_York:20240523T080000
DTEND;TZID=America/New_York:20240523T170000
DTSTAMP:20260423T065617
CREATED:20240507T181016Z
LAST-MODIFIED:20240520T175555Z
UID:10006703-1716451200-1716483600@natickcenter.org
SUMMARY:Great Blue Herons: A Study of Patience and Grace
DESCRIPTION:Visit the Bacon Free Library from May 21st to June 3rd to enjoy Babsje’s stunning photography collection\, Great Blue Herons: A Study of Patience and Grace. \nBabsje was a local photographer who focused her lens on the Great Blue Herons in and around Lake Cochituate and on the Charles\, including at the dam in South Natick. She spent many very happy days floating in her kayak\, and the herons became so accustomed to her quiet presence that she was able to beautifully document their private grandeur for all to experience. \n“Alas\, my days of photographing the magnificent Great Blue Herons from the cockpit of my kayak floating on the lake have come to an end.” – Posted by Babsje on December 20\, 2023\, shortly before her death in January. babsjeheron.wordpress.com. \nShe is greatly missed. \n  \nPhotographs are available for purchase upon request. All proceeds from sales will be donated to Massachusetts Audubon Society.
URL:https://natickcenter.org/event/bflherons/
LOCATION:Bacon Free Library – 58 Eliot Street  Natick\, MA 01760 United States
CATEGORIES:Arts Classes and Education,Cultural Events,Family Friendly,FREE,Library
ATTACH;FMTTYPE=image/jpeg:https://natickcenter.org/wp-content/uploads/2024/05/Babsje-Yoga-Heron-1-e1715105499283.jpg
END:VEVENT
BEGIN:VEVENT
DTSTART;TZID=America/New_York:20240702T171500
DTEND;TZID=America/New_York:20240702T183000
DTSTAMP:20260423T065617
CREATED:20240624T170554Z
LAST-MODIFIED:20240624T170554Z
UID:10006980-1719940500-1719945000@natickcenter.org
SUMMARY:Zentangle
DESCRIPTION:The Zentangle® Method is an easy-to-learn\, relaxing\, and fun way to create beautiful images by drawing structured patterns (called tangles). In this workshop at the Bacon Free Library\, learn the history of Zentangle\, the basic steps of the method\, and the tools used. Through step-by-step instructions\, you will be immersed in creating an original Zentangle tile.\n\nNo artistic talent or experience is required. All supplies will be provided.\n\nRachel Slate-Ziman is a Certified Zentangle Teacher (CZT)\, educated by the creators of Zentangle\, Rick Roberts and Maria Thomas. She has been learning and practicing the Zentangle Method for many years.\n  \nRegistration is required.
URL:https://natickcenter.org/event/zentanglejuly/
LOCATION:Bacon Free Library – 58 Eliot Street  Natick\, MA 01760 United States
CATEGORIES:Arts Classes and Education,FREE,Library
ATTACH;FMTTYPE=image/jpeg:https://natickcenter.org/wp-content/uploads/2024/04/zentangle.jpg
END:VEVENT
BEGIN:VEVENT
DTSTART;TZID=America/New_York:20240715T180000
DTEND;TZID=America/New_York:20240715T190000
DTSTAMP:20260423T065617
CREATED:20240624T180638Z
LAST-MODIFIED:20240708T174439Z
UID:10006992-1721066400-1721070000@natickcenter.org
SUMMARY:From Just a Snapshot to Art – Creating Beautiful Photographs (virtual program)
DESCRIPTION:In this virtual program hosted by the Bacon Free Library\, landscape photographer Joanne Pearson will guide you through the art of seeing as a professional photographer does. You will learn about framing and creating dramatic compositions; balance and movement; leading lines and paths; depth of field; and the nuances of natural light. This program teaches you about what the pros call “getting it right in-camera”. \nJoanne Pearson of Fair Haven Photographs has been a professional photographer for over 25 years. Prior to her career in photography\, she was a registered landscape architect in the state of Massachusetts where she practiced for 12 years. Her photographs of gardens and landscapes have been featured in magazines and calendars that have included Yankee\, Northshore Magazine\, Vermont Life\, Offshore\, BrownTrout Publishers Inc. and Willow Creek Press. She is the solo photographer for four calendars produced by Mahoney Publishing including Flowers and Gardens of New England. \n\nThis program will be held over Zoom. Please register to receive the Zoom link over email.
URL:https://natickcenter.org/event/bflphotoart/
LOCATION:Bacon Free Library – 58 Eliot Street  Natick\, MA 01760 United States
CATEGORIES:Arts Classes and Education,Library
ATTACH;FMTTYPE=image/jpeg:https://natickcenter.org/wp-content/uploads/2024/06/Garden_6487_pearson.JP_-e1719252373258.jpg
END:VEVENT
BEGIN:VEVENT
DTSTART;TZID=America/New_York:20240716T170000
DTEND;TZID=America/New_York:20240716T180000
DTSTAMP:20260423T065617
CREATED:20240624T184528Z
LAST-MODIFIED:20240708T174319Z
UID:10006994-1721149200-1721152800@natickcenter.org
SUMMARY:Pure and Simple Flower Design
DESCRIPTION:For adults who want to learn about floral design\, this class at the Bacon Free Library will cover the basics of design as well as sustainable mechanics and floral conditioning.  We will provide you with a supermarket bouquet and mason jar vase. Then\, you can select and share items from the flower table for greens\, filler flowers\, focal flowers\, and branches. Feel free to bring favorite flowers or greens from your garden if you want to include them in your design (this is optional as there will be enough flowers for the class.)  You will take home your finished arrangement in a box.\n\n\nWe will have a variety of scissors and hand clippers for your use. If you have a favorite pair of floral scissors please bring them.\n\n\nThe instructor\, Monica Foley\, has been learning and practicing floral design for the past 10 years through classes\, lectures\, and local Art in Bloom events.\n\nThis is event is geared towards ages 16 years and up.\nPlease register in advance
URL:https://natickcenter.org/event/bflflower/
LOCATION:Bacon Free Library – 58 Eliot Street  Natick\, MA 01760 United States
CATEGORIES:Arts Classes and Education,Library
ATTACH;FMTTYPE=image/jpeg:https://natickcenter.org/wp-content/uploads/2024/06/flowerMonica.jpg
END:VEVENT
BEGIN:VEVENT
DTSTART;TZID=America/New_York:20240915T100000
DTEND;TZID=America/New_York:20240915T150000
DTSTAMP:20260423T065617
CREATED:20230510T145923Z
LAST-MODIFIED:20240830T183809Z
UID:10006461-1726394400-1726412400@natickcenter.org
SUMMARY:2024 Art in the Park
DESCRIPTION:The Natick Artists’ Association will host Art in the Park at Shaw Park (that nice green space across the street from the Bacon Free Library). Over two dozen local artists will enjoy the fresh air and offer their art for your enjoyment. \nRain Date: September 22\, 2024 \nPhoto courtesy of the Natick Report
URL:https://natickcenter.org/event/2024-art-in-the-park/
LOCATION:Shaw Park\, Natick\, MA
CATEGORIES:Arts Classes and Education,Community Events
ATTACH;FMTTYPE=image/jpeg:https://natickcenter.org/wp-content/uploads/2023/05/Art-in-the-Park.jpg
END:VEVENT
BEGIN:VEVENT
DTSTART;TZID=America/New_York:20241008T170000
DTEND;TZID=America/New_York:20241008T183000
DTSTAMP:20260423T065617
CREATED:20240909T183245Z
LAST-MODIFIED:20240909T183245Z
UID:10007095-1728406800-1728412200@natickcenter.org
SUMMARY:Art Reception – Quilts by Frances Caruso Daneault
DESCRIPTION:The Bacon Free Library is thrilled to welcome back former Assistant Director and Children’s Librarian extraordinaire Fran Daneault to exhibit her spectacular collection of quilts. Along with raising her two sons in Natick and working at the Bacon\, Fran has also spent years perfecting her crafting skills. She applies the same energy\, creativity\, joy\, and humor to her artistic works that she brought in working with children and families at the BFL\, where she frequently wore and gifted some of her handmade creations. \nA longtime resident of Natick\, Fran and her husband recently relocated to New Hampshire\, where Fran can be found walking on the beach\, volunteering in her local library\, and quilting up a storm. \nFran’s quilts will be on display at the BFL from September 19th – October 30th.  Join us at this reception to view the quilts and visit with Fran. \n  \nFrom Fran: \n \nI am a scrappy\, wonky\, modern\, art quilter who sometimes makes traditional quilts. \nI like learning in classes and workshops but have trouble sticking to a pattern. \nFor fabric\, I collect randomly spaced dots\, paisleys\, loudly busy prints and happy colors. I think\, perhaps wrongly\, that they all go together. \nI own way too much fabric but still feel the need to give orphaned fabrics a home. \nI hope you enjoy this collection of quilts.
URL:https://natickcenter.org/event/bflfranreception/
LOCATION:Bacon Free Library – 58 Eliot Street  Natick\, MA 01760 United States
CATEGORIES:Arts Classes and Education,Cultural Events,Library
ATTACH;FMTTYPE=image/jpeg:https://natickcenter.org/wp-content/uploads/2024/09/Grown_smaller.jpg
END:VEVENT
BEGIN:VEVENT
DTSTART;TZID=America/New_York:20250111T100000
DTEND;TZID=America/New_York:20250111T110000
DTSTAMP:20260423T065617
CREATED:20241217T164707Z
LAST-MODIFIED:20241231T230417Z
UID:10007134-1736589600-1736593200@natickcenter.org
SUMMARY:Art Across the Globe
DESCRIPTION:Watch & learn from Artist Dr. Avijit Majumder \nWhat to expect: \n\nTo get the best out of the demo\, we recommend that you listen and observe the instructions during the workshop and paint the artwork later.\nMeet the artist.\nQ&A session with the artists.\nAccess the workshop video for 3-weeks and complete your artwork.\nShare your artwork with fellow participants and the organizers.\n\nSponsored by Natick Center Cultural District and facilitated by Artsy Way of Life. \n  \nReserve your spot today!
URL:https://natickcenter.org/event/art-across-the-globe/
CATEGORIES:Arts Classes and Education
ATTACH;FMTTYPE=image/jpeg:https://natickcenter.org/wp-content/uploads/2024/12/Art-Across-The-Globe-2025.jpg
END:VEVENT
BEGIN:VEVENT
DTSTART;TZID=America/New_York:20250222T100000
DTEND;TZID=America/New_York:20250222T110000
DTSTAMP:20260423T065617
CREATED:20250115T132550Z
LAST-MODIFIED:20250209T225931Z
UID:10007154-1740218400-1740222000@natickcenter.org
SUMMARY:Art Across the Globe
DESCRIPTION:Gond Art Workshop \nWatch & learn from Artist Ravi Kumar Tekam \nWhat to expect: \n\nTo get the best out of the demo\, we recommend that you listen and observe the instructions during the workshop and paint the artwork later.\nMeet the artist.\nQ&A session with the artists.\nAccess the workshop video for 3-weeks and complete your artwork.\nShare your artwork with fellow participants and the organizers.\n\nSponsored by Natick Center Cultural District and facilitated by Artsy Way of Life. \n  \n RESERVE your spot today!
URL:https://natickcenter.org/event/art-across-the-globe-3/
CATEGORIES:Arts Classes and Education
ATTACH;FMTTYPE=image/png:https://natickcenter.org/wp-content/uploads/2025/01/Feb-2025-Art-Across-the-Globe-2160-x-1080-px.png
LOCATION:
END:VEVENT
BEGIN:VEVENT
DTSTART;TZID=America/New_York:20250410T180000
DTEND;TZID=America/New_York:20250410T190000
DTSTAMP:20260423T065617
CREATED:20250225T195211Z
LAST-MODIFIED:20250324T175535Z
UID:10007164-1744308000-1744311600@natickcenter.org
SUMMARY:Virtual: Lost Treasures of the Titanic with Art Historian Mallory Mortillaro
DESCRIPTION:James Cameron’s Titanic told the invented story of the Heart of the Ocean–a fictional blue diamond necklace lost tragically in the ship’s famous sinking. But what about the real treasures that were lost when the Titanic sank? \nFor over a century\, the world has been intrigued by the story of the Titanic. When tragedy struck on April 14\, 1912\, in addition to the incredible loss of life\, a nearly incalculable amount of goods plummeted into the ocean\, never to be seen again. This lecture takes a closer look at and tells the stories of some of the more interesting and valuable treasures lost on that fateful night. \nMallory Mortillaro is an art historian and educator. She has ten years of teaching experience and has worked on various art research projects for museums and organizations in the New York metropolitan area. She studied at Drew University. Mallory resides in New Jersey with her husband and daughter. \nThis program will be held over Zoom. Please register to receive the meeting link.
URL:https://natickcenter.org/event/titanic425/
CATEGORIES:Arts Classes and Education,History,Library
ATTACH;FMTTYPE=image/png:https://natickcenter.org/wp-content/uploads/2024/02/Mallory-Mortillaro.png
LOCATION:
END:VEVENT
BEGIN:VEVENT
DTSTART;TZID=America/New_York:20250813T183000
DTEND;TZID=America/New_York:20250813T193000
DTSTAMP:20260423T065617
CREATED:20250813T140854Z
LAST-MODIFIED:20250813T141319Z
UID:10007429-1755109800-1755113400@natickcenter.org
SUMMARY:Wine & Design at the Planted Collective
DESCRIPTION:Join us for a cozy evening learning how to create beautiful floral arrangements with Fireside Floral! \n  \n📅 Thursday September 25th🕕 6:30 PM – 7:30 PM📍 37 S Main St\, Natick\, MA\, 01760 \nJoin us for a hands-on guided floral arrangement class in collaboration with the talented team at Fireside Floral! \nWhether you’re a seasoned plant lover or just looking for a fun\, creative night out\, this class is perfect for all skill levels. \n  \nWhat’s Included: \n🌸 All floral materials and supplies \n🍷 Wine \, 🍺 Beer\, and snacks \n🌿 Expert instruction from Fireside Floral \n💐 A beautiful custom arrangement to take home \nCome sip\, snip\, and socialize with fellow Plant Pals in a cozy\, welcoming space! \n  \n🎟️ Tickets are limited—reserve your spot today!
URL:https://natickcenter.org/event/wine-design-at-the-planted-collective/
LOCATION:The Planted Collective\, 37 S Main Street\, Natick\, 01760\, United States
CATEGORIES:Arts Classes and Education,Community Events
ATTACH;FMTTYPE=image/jpeg:https://natickcenter.org/wp-content/uploads/2025/08/Planted-Collective-Wine-and-Design.jpg
END:VEVENT
BEGIN:VEVENT
DTSTART;TZID=America/New_York:20260214T190000
DTEND;TZID=America/New_York:20260214T220000
DTSTAMP:20260423T065617
CREATED:20260123T170929Z
LAST-MODIFIED:20260123T170929Z
UID:10007512-1771095600-1771106400@natickcenter.org
SUMMARY:Dancing & Desserts Valentines Day Party at Arthur Murray Natick Dance Center
DESCRIPTION:Grab a dance partner and come to the Arthur Murray Natick Dance Center at 10 Main Street\, Natick\, MA\, for a Valentine’s Day Party with Dancying & Desserts!
URL:https://natickcenter.org/event/dancing-desserts-valentines-day-party-at-arthur-murray-natick-dance-center/
LOCATION:Arthur Murray Natick Dance Studio\, 10 Main Street\, Natick\, 01760\, United States
CATEGORIES:Arts Classes and Education,Community Events
ATTACH;FMTTYPE=image/jpeg:https://natickcenter.org/wp-content/uploads/2026/01/CB5FCADA-159A-4FAB-A680-60B6B7DEFB60.jpeg
END:VEVENT
BEGIN:VEVENT
DTSTART;TZID=America/New_York:20260216T090000
DTEND;TZID=America/New_York:20260220T150000
DTSTAMP:20260423T065617
CREATED:20260205T154518Z
LAST-MODIFIED:20260205T154518Z
UID:10007543-1771232400-1771599600@natickcenter.org
SUMMARY:Creativity Workshops
DESCRIPTION:Dates: MONDAY\, 2/16 – FRIDAY\, 2/20 (Openings still available on Monday\, Thursday and Friday) \nTimes: 9:00-1:00 with extended day option until 3:00 \nPlace: 3 Adams Street\, Natick Center \nAges: 8 – 15 \nCost: $110.00/day $35.00 for extended day option until 3:00 \nGinger and Helen will be offering both a sewing and an art project each day\, with a break around 11:00\, so please bring a water bottle and snack for the morning sessions.If staying until 3:00\, we will be taking a break at 1:00 for lunch\, so please pack a lunch for the full day. \nWe will be able to take up to 12 kids per day\, so PLEASE sign up early. These classes do fill up fast. \nThe morning session is a structured time for each child to complete both a sewing project and an art project in a small group of up to 6 kids.\nThe afternoon session until 3:00 is more loosely structured\, allowing the kids to work on a project of their choice with the guidance of Ginger and myself.\nThese workshops offer the opportunity to learn new art skills and hone sewing skills using the sewing machine\, while inspiring creativity and confidence in each child. \nIf your child has not had any sewing experience using the sewing machine\, or would like a REFRESHER lesson\, I will be offering a mini 1-hour class the week prior to our workshops that Friday\, February 13 after school at 3:30-4:30 for just $25.00. \nTo sign up for our classes\, please email helenshandbags@rcn.com with your child’s name\, age\, days and times you would like\, as well as emergency contact information and any allergies your child might have.\nI will get right back to you to confirm your slots. \nThank you and please don’t hesitate to reach out if you have any questions. \nSincerely\,\nHelen and Ginger
URL:https://natickcenter.org/event/creativity-workshops/
LOCATION:Studio @ 3 Adams
CATEGORIES:Art,Arts Classes and Education,Education,Family Friendly,Teen Events
ATTACH;FMTTYPE=image/jpeg:https://natickcenter.org/wp-content/uploads/2026/02/IMG_0576-scaled.jpeg
END:VEVENT
BEGIN:VEVENT
DTSTART;TZID=America/New_York:20260328T140000
DTEND;TZID=America/New_York:20260328T153000
DTSTAMP:20260423T065617
CREATED:20260316T190653Z
LAST-MODIFIED:20260316T190653Z
UID:10007564-1774706400-1774711800@natickcenter.org
SUMMARY:Spring Art Class
DESCRIPTION:Join local art teacher\, Michelle Parven\, at Bloom & Grow Creative\, on Saturday\, March 28\, 2026\, 2-3:30 PM\, for a Spring Art Class. The cost is $40 for 1 adult and 2 kids\, which includes all supplies. \nAll proceeds will help Kate Duncan meet her fundraising goal to run in the 2026 Boston Marathon while also fundraising for the Natick Center Cultural District. She is so close! Let’s make sure she can run and sign up for the class today. \nBloom & Grow Creative is located at 17 South Avenue\, #1\, Natick\, MA\, with plenty of nearby on-street\, and town parking lot parking available. \nSign up here.
URL:https://natickcenter.org/event/spring-art-class/
LOCATION:Bloom & Grow Creative\, 17 South Avenue\, Natick\, MA\, 01760\, United States
CATEGORIES:Art,Arts Classes and Education,Children's Events,Community Events,Family Friendly,Featured,Fundraising
ATTACH;FMTTYPE=image/jpeg:https://natickcenter.org/wp-content/uploads/2026/03/Copy-of-BloomGrow-Marathon-Fundraiser-Flyer-2026.jpg
END:VEVENT
END:VCALENDAR