BEGIN:VCALENDAR
VERSION:2.0
PRODID:-//The Natick Center Cultural District - ECPv6.15.20//NONSGML v1.0//EN
CALSCALE:GREGORIAN
METHOD:PUBLISH
X-WR-CALNAME:The Natick Center Cultural District
X-ORIGINAL-URL:https://natickcenter.org
X-WR-CALDESC:Events for The Natick Center Cultural District
REFRESH-INTERVAL;VALUE=DURATION:PT1H
X-Robots-Tag:noindex
X-PUBLISHED-TTL:PT1H
BEGIN:VTIMEZONE
TZID:America/New_York
BEGIN:DAYLIGHT
TZOFFSETFROM:-0500
TZOFFSETTO:-0400
TZNAME:EDT
DTSTART:20240310T070000
END:DAYLIGHT
BEGIN:STANDARD
TZOFFSETFROM:-0400
TZOFFSETTO:-0500
TZNAME:EST
DTSTART:20241103T060000
END:STANDARD
BEGIN:DAYLIGHT
TZOFFSETFROM:-0500
TZOFFSETTO:-0400
TZNAME:EDT
DTSTART:20250309T070000
END:DAYLIGHT
BEGIN:STANDARD
TZOFFSETFROM:-0400
TZOFFSETTO:-0500
TZNAME:EST
DTSTART:20251102T060000
END:STANDARD
BEGIN:DAYLIGHT
TZOFFSETFROM:-0500
TZOFFSETTO:-0400
TZNAME:EDT
DTSTART:20260308T070000
END:DAYLIGHT
BEGIN:STANDARD
TZOFFSETFROM:-0400
TZOFFSETTO:-0500
TZNAME:EST
DTSTART:20261101T060000
END:STANDARD
END:VTIMEZONE
BEGIN:VEVENT
DTSTART;TZID=America/New_York:20250201T090000
DTEND;TZID=America/New_York:20250201T130000
DTSTAMP:20260420T141310
CREATED:20240530T175812Z
LAST-MODIFIED:20250508T231407Z
UID:10006746-1738400400-1738414800@natickcenter.org
SUMMARY:Natick Farmers Market
DESCRIPTION:The Natick Farmers Market is a year-round program of the Natick Center Cultural District and is open every Saturday from 9 am to 1 pm. \n\nVisit natickfarmersmarket.org for current location and vendors. \nSpring and Summer\nNatick Town Common\nThe intersection of Routes 27 and 135\nNatick \n\nFall and Winter\nCommon Street Spiritual Center\n13 Common Street\nNatick
URL:https://natickcenter.org/event/natick-farmers-market/2025-02-01/
LOCATION:Natick Common
CATEGORIES:Community Events,FREE
ATTACH;FMTTYPE=image/png:https://natickcenter.org/wp-content/uploads/2019/11/NatickFarmersMarket.png
END:VEVENT
BEGIN:VEVENT
DTSTART;TZID=America/New_York:20250201T100000
DTEND;TZID=America/New_York:20250201T113000
DTSTAMP:20260420T141311
CREATED:20250107T194655Z
LAST-MODIFIED:20250107T194655Z
UID:10007146-1738404000-1738409400@natickcenter.org
SUMMARY:Read to a Dog
DESCRIPTION:Kids can build confidence and practice their reading skills by reading out loud to a registered therapy dog at the Bacon Free Library. Children ages 5 and up can sign up for a 15-minute reading session with Sophie\, a gentle golden retriever who loves belly rubs\, stories\, and cuddles.
URL:https://natickcenter.org/event/read-to-a-dog-2/
LOCATION:Bacon Free Library – 58 Eliot Street  Natick\, MA 01760 United States
CATEGORIES:Children's Events,Library
ATTACH;FMTTYPE=image/jpeg:https://natickcenter.org/wp-content/uploads/2024/12/SophieRTAD.jpg
END:VEVENT
BEGIN:VEVENT
DTSTART;TZID=America/New_York:20250204T170000
DTEND;TZID=America/New_York:20250204T183000
DTSTAMP:20260420T141311
CREATED:20250107T195006Z
LAST-MODIFIED:20250107T195006Z
UID:10007147-1738688400-1738693800@natickcenter.org
SUMMARY:Felted Koala Craft for Adults
DESCRIPTION:Learn how to needle felt a koala holding a heart using wool roving and a barbed needle. Pop up Art School is coming to the Bacon Free Library to teach the basics of needle felting. You’ll leave the class with the knowledge and basic supplies you need to continue felting on your own! Ages 13+ only please.\nRegistration required.
URL:https://natickcenter.org/event/koalabfl225/
LOCATION:Bacon Free Library – 58 Eliot Street  Natick\, MA 01760 United States
CATEGORIES:Library
ATTACH;FMTTYPE=image/jpeg:https://natickcenter.org/wp-content/uploads/2025/01/koala.jpg
END:VEVENT
BEGIN:VEVENT
DTSTART;TZID=America/New_York:20250208T090000
DTEND;TZID=America/New_York:20250208T130000
DTSTAMP:20260420T141311
CREATED:20240530T175812Z
LAST-MODIFIED:20250508T231407Z
UID:10006747-1739005200-1739019600@natickcenter.org
SUMMARY:Natick Farmers Market
DESCRIPTION:The Natick Farmers Market is a year-round program of the Natick Center Cultural District and is open every Saturday from 9 am to 1 pm. \n\nVisit natickfarmersmarket.org for current location and vendors. \nSpring and Summer\nNatick Town Common\nThe intersection of Routes 27 and 135\nNatick \n\nFall and Winter\nCommon Street Spiritual Center\n13 Common Street\nNatick
URL:https://natickcenter.org/event/natick-farmers-market/2025-02-08/
LOCATION:Natick Common
CATEGORIES:Community Events,FREE
ATTACH;FMTTYPE=image/png:https://natickcenter.org/wp-content/uploads/2019/11/NatickFarmersMarket.png
END:VEVENT
BEGIN:VEVENT
DTSTART;TZID=America/New_York:20250208T100000
DTEND;TZID=America/New_York:20250208T110000
DTSTAMP:20260420T141311
CREATED:20241217T173952Z
LAST-MODIFIED:20250107T195303Z
UID:10007148-1739008800-1739012400@natickcenter.org
SUMMARY:Français à la bibliothèque
DESCRIPTION:BONJOUR !\n\nVous parlez français ? \nun peu\, beaucoup\, pas de problèmes. \nVenez nous rejoindre pour parler ou pour écouter.
URL:https://natickcenter.org/event/french125/2025-02-08/
LOCATION:Bacon Free Library – 58 Eliot Street  Natick\, MA 01760 United States
CATEGORIES:Cultural Events,Library
ATTACH;FMTTYPE=image/jpeg:https://natickcenter.org/wp-content/uploads/2024/08/French.jpg
END:VEVENT
BEGIN:VEVENT
DTSTART;TZID=America/New_York:20250213T180000
DTEND;TZID=America/New_York:20250213T190000
DTSTAMP:20260420T141311
CREATED:20250113T214455Z
LAST-MODIFIED:20250114T181002Z
UID:10007149-1739469600-1739473200@natickcenter.org
SUMMARY:Gardens of the Pacific Northwest (virtual)
DESCRIPTION:Landscape photographer Joanne Pearson will be our guide through this armchair tour of gardens in the Pacific Northwest. \nJoanne Pearson has been a professional photographer for more than 25 years. Prior to her career in photography\, she was a registered landscape architect in the state of Massachusetts where she practiced for 12 years. Her photographs of gardens and landscapes have been featured in magazines and calendars that have included Yankee\, Northshore Magazine\, Vermont Life\, Offshore\, BrownTrout Publishers Inc. and Willow Creek Press. She is the solo photographer for four calendars produced by Mahoney Publishing including Flowers and Gardens of New England.  In addition to her garden photography\, Joanne photographs architecture\, landscapes\, lifestyle\, and food for the hospitality industry\, architects and builders throughout the northeast. \nThis program is hosted by the Bacon Free Library and will be held over Zoom. Please register to receive the meeting link. 
URL:https://natickcenter.org/event/gardenpnw/
LOCATION:Bacon Free Library – 58 Eliot Street  Natick\, MA 01760 United States
CATEGORIES:Library
ATTACH;FMTTYPE=image/jpeg:https://natickcenter.org/wp-content/uploads/2025/01/Garden_9058-e1736878194439.jpg
END:VEVENT
BEGIN:VEVENT
DTSTART;TZID=America/New_York:20250214T100000
DTEND;TZID=America/New_York:20250214T120000
DTSTAMP:20260420T141311
CREATED:20250113T215155Z
LAST-MODIFIED:20250113T221302Z
UID:10007150-1739527200-1739534400@natickcenter.org
SUMMARY:Drop-in Valentine Making
DESCRIPTION:Stop by the Bacon Free Library anytime between 10:00 and 12:00 to make some Valentine’s Day cards for your friends and family! We’ll provide an assortment of craft materials. All ages are welcome.
URL:https://natickcenter.org/event/valentinecraft25/
LOCATION:Bacon Free Library – 58 Eliot Street  Natick\, MA 01760 United States
CATEGORIES:Children's Events,Library
ATTACH;FMTTYPE=image/jpeg:https://natickcenter.org/wp-content/uploads/2025/01/valentinespenguin.jpg
END:VEVENT
BEGIN:VEVENT
DTSTART;TZID=America/New_York:20250215T090000
DTEND;TZID=America/New_York:20250215T130000
DTSTAMP:20260420T141311
CREATED:20240530T175812Z
LAST-MODIFIED:20250508T231407Z
UID:10006748-1739610000-1739624400@natickcenter.org
SUMMARY:Natick Farmers Market
DESCRIPTION:The Natick Farmers Market is a year-round program of the Natick Center Cultural District and is open every Saturday from 9 am to 1 pm. \n\nVisit natickfarmersmarket.org for current location and vendors. \nSpring and Summer\nNatick Town Common\nThe intersection of Routes 27 and 135\nNatick \n\nFall and Winter\nCommon Street Spiritual Center\n13 Common Street\nNatick
URL:https://natickcenter.org/event/natick-farmers-market/2025-02-15/
LOCATION:Natick Common
CATEGORIES:Community Events,FREE
ATTACH;FMTTYPE=image/png:https://natickcenter.org/wp-content/uploads/2019/11/NatickFarmersMarket.png
END:VEVENT
BEGIN:VEVENT
DTSTART;TZID=America/New_York:20250215T183000
DTEND;TZID=America/New_York:20250215T203000
DTSTAMP:20260420T141311
CREATED:20250228T161457Z
LAST-MODIFIED:20250228T161837Z
UID:10007169-1739644200-1739651400@natickcenter.org
SUMMARY:Nottingham: A Totally Teen Musical
DESCRIPTION:Tickets available at natickdramaworkshop.com. \nIt’s 1961 at Nottingham High\, where life is groovy… unless you’re from the wrong side of the tracks! John Prince\, the rich\, popular class president\, is stealing from the poor Saxons to keep the Normans happy. But things are about to get wild when Robin Loxley returns for her senior year! A fierce advocate for justice\, Robin teams up with former all-state quarterback Little John and a ragtag crew of not-so-merry people to take down the Normans. But what happens when Robin meets Marion\, a Norman who’s not so bad after all? Will Robin reunite the cliques\, stop the injustices\, and make it to prom in time? You won’t want to miss this totally tubular show.
URL:https://natickcenter.org/event/nottingham-a-totally-teen-musical/2025-02-15/
LOCATION:Wilson Middle School
CATEGORIES:Children's Events,Community Events,Family Friendly,Performances,Teen Events
ORGANIZER;CN="Friends of the Natick Drama Workshop":MAILTO:staff@natickdramaworkshop.com
END:VEVENT
BEGIN:VEVENT
DTSTART;TZID=America/New_York:20250221T103000
DTEND;TZID=America/New_York:20250221T111500
DTSTAMP:20260420T141311
CREATED:20250113T215918Z
LAST-MODIFIED:20250113T215918Z
UID:10007151-1740133800-1740136500@natickcenter.org
SUMMARY:Puppet Story Time
DESCRIPTION:Through Me To You Puppetry invites you to join Newton and the gang for some story time fun at the Bacon Free Library! Newton and his puppet friends take turns reading stories and singing songs with the kids. At the end of the show\, the kids are invited to say hi to Newton and even play with some of the puppets during a hands-on free play session. \nAll ages welcome. Registration is required.
URL:https://natickcenter.org/event/puppetbfl225/
LOCATION:Bacon Free Library – 58 Eliot Street  Natick\, MA 01760 United States
CATEGORIES:Children's Events,Library
ATTACH;FMTTYPE=image/jpeg:https://natickcenter.org/wp-content/uploads/2022/06/Puppetry_Newton.jpeg
END:VEVENT
BEGIN:VEVENT
DTSTART;TZID=America/New_York:20250222T090000
DTEND;TZID=America/New_York:20250222T130000
DTSTAMP:20260420T141311
CREATED:20240530T175812Z
LAST-MODIFIED:20250508T231407Z
UID:10006749-1740214800-1740229200@natickcenter.org
SUMMARY:Natick Farmers Market
DESCRIPTION:The Natick Farmers Market is a year-round program of the Natick Center Cultural District and is open every Saturday from 9 am to 1 pm. \n\nVisit natickfarmersmarket.org for current location and vendors. \nSpring and Summer\nNatick Town Common\nThe intersection of Routes 27 and 135\nNatick \n\nFall and Winter\nCommon Street Spiritual Center\n13 Common Street\nNatick
URL:https://natickcenter.org/event/natick-farmers-market/2025-02-22/
LOCATION:Natick Common
CATEGORIES:Community Events,FREE
ATTACH;FMTTYPE=image/png:https://natickcenter.org/wp-content/uploads/2019/11/NatickFarmersMarket.png
END:VEVENT
BEGIN:VEVENT
DTSTART;TZID=America/New_York:20250222T100000
DTEND;TZID=America/New_York:20250222T110000
DTSTAMP:20260420T141311
CREATED:20250115T132550Z
LAST-MODIFIED:20250209T225931Z
UID:10007154-1740218400-1740222000@natickcenter.org
SUMMARY:Art Across the Globe
DESCRIPTION:Gond Art Workshop \nWatch & learn from Artist Ravi Kumar Tekam \nWhat to expect: \n\nTo get the best out of the demo\, we recommend that you listen and observe the instructions during the workshop and paint the artwork later.\nMeet the artist.\nQ&A session with the artists.\nAccess the workshop video for 3-weeks and complete your artwork.\nShare your artwork with fellow participants and the organizers.\n\nSponsored by Natick Center Cultural District and facilitated by Artsy Way of Life. \n  \n RESERVE your spot today!
URL:https://natickcenter.org/event/art-across-the-globe-3/
CATEGORIES:Arts Classes and Education
ATTACH;FMTTYPE=image/png:https://natickcenter.org/wp-content/uploads/2025/01/Feb-2025-Art-Across-the-Globe-2160-x-1080-px.png
LOCATION:
END:VEVENT
BEGIN:VEVENT
DTSTART;TZID=America/New_York:20250225T180000
DTEND;TZID=America/New_York:20250225T190000
DTSTAMP:20260420T141311
CREATED:20250113T220322Z
LAST-MODIFIED:20250113T220322Z
UID:10007152-1740506400-1740510000@natickcenter.org
SUMMARY:Indoor Seed Starting (virtual)
DESCRIPTION:The Bacon Free Library invites you to learn about indoor seed starting. There are so many more varieties of vegetables than what the garden centers offer. Eric Bromberg from Blackstone Valley Veggie Gardens will show you everything you need to know. \n  \nThis program will be held over Zoom. Please register to receive the meeting link. 
URL:https://natickcenter.org/event/indoorseed225/
LOCATION:Bacon Free Library – 58 Eliot Street  Natick\, MA 01760 United States
CATEGORIES:Library
ATTACH;FMTTYPE=image/jpeg:https://natickcenter.org/wp-content/uploads/2024/01/saveseeds.jpg
END:VEVENT
BEGIN:VEVENT
DTSTART;TZID=America/New_York:20250227T080000
DTEND;TZID=America/New_York:20250227T170000
DTSTAMP:20260420T141311
CREATED:20250211T185040Z
LAST-MODIFIED:20250211T185119Z
UID:10007159-1740643200-1740675600@natickcenter.org
SUMMARY:Bruno Wernli Art
DESCRIPTION:Visit the Bacon Free Library through March 26th to appreciate the works of local artist Bruno Wernli.\n\n \n\n\nBruno Wernli\, born in Zürich\, Switzerland\, is an abstract expressionist artist currently based in Natick\, MA. Specializing in acrylics on canvas\, Bruno is renowned for his large-scale abstractions characterized by luminous\, intense colors\, crafted through a multi-layer technique. He is best known for his adept manipulation of color and form\, which results in captivating works that engage viewers with their visual depth and textural complexity.
URL:https://natickcenter.org/event/bflwernli/
LOCATION:Bacon Free Library – 58 Eliot Street  Natick\, MA 01760 United States
CATEGORIES:Library
END:VEVENT
END:VCALENDAR