BEGIN:VCALENDAR
VERSION:2.0
PRODID:-//The Natick Center Cultural District - ECPv6.15.20//NONSGML v1.0//EN
CALSCALE:GREGORIAN
METHOD:PUBLISH
X-WR-CALNAME:The Natick Center Cultural District
X-ORIGINAL-URL:https://natickcenter.org
X-WR-CALDESC:Events for The Natick Center Cultural District
REFRESH-INTERVAL;VALUE=DURATION:PT1H
X-Robots-Tag:noindex
X-PUBLISHED-TTL:PT1H
BEGIN:VTIMEZONE
TZID:America/New_York
BEGIN:DAYLIGHT
TZOFFSETFROM:-0500
TZOFFSETTO:-0400
TZNAME:EDT
DTSTART:20240310T070000
END:DAYLIGHT
BEGIN:STANDARD
TZOFFSETFROM:-0400
TZOFFSETTO:-0500
TZNAME:EST
DTSTART:20241103T060000
END:STANDARD
BEGIN:DAYLIGHT
TZOFFSETFROM:-0500
TZOFFSETTO:-0400
TZNAME:EDT
DTSTART:20250309T070000
END:DAYLIGHT
BEGIN:STANDARD
TZOFFSETFROM:-0400
TZOFFSETTO:-0500
TZNAME:EST
DTSTART:20251102T060000
END:STANDARD
BEGIN:DAYLIGHT
TZOFFSETFROM:-0500
TZOFFSETTO:-0400
TZNAME:EDT
DTSTART:20260308T070000
END:DAYLIGHT
BEGIN:STANDARD
TZOFFSETFROM:-0400
TZOFFSETTO:-0500
TZNAME:EST
DTSTART:20261101T060000
END:STANDARD
END:VTIMEZONE
BEGIN:VEVENT
DTSTART;TZID=America/New_York:20250301T090000
DTEND;TZID=America/New_York:20250301T130000
DTSTAMP:20260420T123825
CREATED:20240530T175812Z
LAST-MODIFIED:20250508T231407Z
UID:10006750-1740819600-1740834000@natickcenter.org
SUMMARY:Natick Farmers Market
DESCRIPTION:The Natick Farmers Market is a year-round program of the Natick Center Cultural District and is open every Saturday from 9 am to 1 pm. \n\nVisit natickfarmersmarket.org for current location and vendors. \nSpring and Summer\nNatick Town Common\nThe intersection of Routes 27 and 135\nNatick \n\nFall and Winter\nCommon Street Spiritual Center\n13 Common Street\nNatick
URL:https://natickcenter.org/event/natick-farmers-market/2025-03-01/
LOCATION:Natick Common
CATEGORIES:Community Events,FREE
ATTACH;FMTTYPE=image/png:https://natickcenter.org/wp-content/uploads/2019/11/NatickFarmersMarket.png
END:VEVENT
BEGIN:VEVENT
DTSTART;TZID=America/New_York:20250306T183000
DTEND;TZID=America/New_York:20250306T200000
DTSTAMP:20260420T123825
CREATED:20250226T195640Z
LAST-MODIFIED:20250226T195640Z
UID:10007166-1741285800-1741291200@natickcenter.org
SUMMARY:Fill Bowls\, Fight Hunger: A Fundraiser at Walnut Hill
DESCRIPTION:Fill Bowls\, Fight Hunger\nThursday\, March 6\, 6:30-8pm\nBowls $15-$30; Select items for auction\nFood donations accepted at the door!\n\nInspired by the Empty Bowls grassroots movement\, Walnut Hill will be hosting a student-led ceramic bowl sale and ice cream social to support the Natick Service Council’s Heart Healthy Food Pantry. Buy a beautiful handcrafted bowl\, fill it with delicious local ice cream\, listen to live music by resident band Beautiful Stranger\, and help local families fill their pantries with healthy food items.\n\nNon-perishable\, non-expired food donations and toiletry donations will be accepted at the door. The top items needed by the Heart Healthy Food Pantry are:\n\n\nCereal\nAlbacore tuna\nPasta and jarred pasta sauce\nCanned soup and low-sodium soup\nToilet paper\nToothbrushes and toothpaste\nOat\, rice\, soy or almond milk – shelf stable\nAfter school snack items – individual size
URL:https://natickcenter.org/event/fill-bowls-fight-hunger-a-fundraiser-at-walnut-hill/
LOCATION:Walnut Hill School for the Arts\, 12 Highland St.\, Natick\, MA
CATEGORIES:Community Events
ORGANIZER;CN="Walnut Hill School for the Arts":MAILTO:creative@walnuthillarts.org
END:VEVENT
BEGIN:VEVENT
DTSTART;TZID=America/New_York:20250308T090000
DTEND;TZID=America/New_York:20250308T130000
DTSTAMP:20260420T123825
CREATED:20240530T175812Z
LAST-MODIFIED:20250508T231407Z
UID:10006751-1741424400-1741438800@natickcenter.org
SUMMARY:Natick Farmers Market
DESCRIPTION:The Natick Farmers Market is a year-round program of the Natick Center Cultural District and is open every Saturday from 9 am to 1 pm. \n\nVisit natickfarmersmarket.org for current location and vendors. \nSpring and Summer\nNatick Town Common\nThe intersection of Routes 27 and 135\nNatick \n\nFall and Winter\nCommon Street Spiritual Center\n13 Common Street\nNatick
URL:https://natickcenter.org/event/natick-farmers-market/2025-03-08/
LOCATION:Natick Common
CATEGORIES:Community Events,FREE
ATTACH;FMTTYPE=image/png:https://natickcenter.org/wp-content/uploads/2019/11/NatickFarmersMarket.png
END:VEVENT
BEGIN:VEVENT
DTSTART;TZID=America/New_York:20250310T190000
DTEND;TZID=America/New_York:20250310T200000
DTSTAMP:20260420T123825
CREATED:20250211T183900Z
LAST-MODIFIED:20250211T183900Z
UID:10007156-1741633200-1741636800@natickcenter.org
SUMMARY:Virtual: Boston Light: Three Centuries of History with Author Jeremy D’Entremont
DESCRIPTION:Based on Jeremy’s book\, Boston Light: Three Centuries of History\, this virtual talk focuses on Boston Light Station\, the site of the first lighthouse on the North American continent. Jeremy will trace its history through three centuries of tragedy\, rescues\, and colorful human interest stories of keepers and their families. \n  \nThis program is presented by the Bacon Free Library in partnership with the Ashland Public Library and a multitude of MA & NH libraries; it is sponsored by the Friends of the Ashland Public Library. \n\n\nPLEASE REGISTER HERE FOR THE ZOOM LINK. \n\nAbout the Author:\n\nJeremy D’Entremont is the president and historian of the American Lighthouse Foundation\, historian for the U.S. Lighthouse Society\, and the author of more than 20 books and hundreds of articles on lighthouses and maritime history. He’s the producer and host of the U.S. Lighthouse Society’s podcast\, Light Hearted. He has appeared on the popular Ghost Hunters TV show\, as well as Haunted Lighthouses of America on the Travel Channel. He has also appeared on the History Channel\, Public Television\, and National Public Radio speaking about lighthouses. \n\n\n\n\n  \nRECORDING NOTE: This program will be recorded. All registrants will receive the recording via email within 48 hours of the program
URL:https://natickcenter.org/event/bflbostonlight/
LOCATION:Bacon Free Library – 58 Eliot Street  Natick\, MA 01760 United States
CATEGORIES:History,Library
END:VEVENT
BEGIN:VEVENT
DTSTART;TZID=America/New_York:20250315T090000
DTEND;TZID=America/New_York:20250315T130000
DTSTAMP:20260420T123825
CREATED:20240530T175812Z
LAST-MODIFIED:20250508T231407Z
UID:10006752-1742029200-1742043600@natickcenter.org
SUMMARY:Natick Farmers Market
DESCRIPTION:The Natick Farmers Market is a year-round program of the Natick Center Cultural District and is open every Saturday from 9 am to 1 pm. \n\nVisit natickfarmersmarket.org for current location and vendors. \nSpring and Summer\nNatick Town Common\nThe intersection of Routes 27 and 135\nNatick \n\nFall and Winter\nCommon Street Spiritual Center\n13 Common Street\nNatick
URL:https://natickcenter.org/event/natick-farmers-market/2025-03-15/
LOCATION:Natick Common
CATEGORIES:Community Events,FREE
ATTACH;FMTTYPE=image/png:https://natickcenter.org/wp-content/uploads/2019/11/NatickFarmersMarket.png
END:VEVENT
BEGIN:VEVENT
DTSTART;TZID=America/New_York:20250315T130000
DTEND;TZID=America/New_York:20250315T140000
DTSTAMP:20260420T123825
CREATED:20250303T174818Z
LAST-MODIFIED:20250303T174818Z
UID:10007175-1742043600-1742047200@natickcenter.org
SUMMARY:Fundraiser Pilates Class at Boston Body Pilates
DESCRIPTION:Join Miss Amanda at Boston Body Natick on Saturday\, March 15\, 2025\, at 1pm\, for a Pilates class to fundraise for her 2025 Boston Marathon run!\nThe proceeds raised will not only allow Amanda to run the marathon but will go to the Natick Center Cultural District.\n\nRegister for the class before all the spaces are gone! https://bostonbody.com/locations/natick
URL:https://natickcenter.org/event/fundraiser-pilates-class-at-boston-body-pilates/
LOCATION:Boston Body Pilates\, 31 South Main Street\, Natick\, MA\, 01760\, United States
ATTACH;FMTTYPE=image/jpeg:https://natickcenter.org/wp-content/uploads/2025/03/IMG_9200.jpg
END:VEVENT
BEGIN:VEVENT
DTSTART;TZID=America/New_York:20250315T140000
DTEND;TZID=America/New_York:20250316T140000
DTSTAMP:20260420T123825
CREATED:20250228T161905Z
LAST-MODIFIED:20250228T162022Z
UID:10007170-1742047200-1742133600@natickcenter.org
SUMMARY:Nottingham: A Totally Teen Musical
DESCRIPTION:Tickets available at natickdramaworkshop.com. \nIt’s 1961 at Nottingham High\, where life is groovy… unless you’re from the wrong side of the tracks! John Prince\, the rich\, popular class president\, is stealing from the poor Saxons to keep the Normans happy. But things are about to get wild when Robin Loxley returns for her senior year! A fierce advocate for justice\, Robin teams up with former all-state quarterback Little John and a ragtag crew of not-so-merry people to take down the Normans. But what happens when Robin meets Marion\, a Norman who’s not so bad after all? Will Robin reunite the cliques\, stop the injustices\, and make it to prom in time? You won’t want to miss this totally tubular show.
URL:https://natickcenter.org/event/nottingham-a-totally-teen-musical-2/
LOCATION:Wilson Middle School
CATEGORIES:Children's Events,Community Events,Family Friendly,Performances,Teen Events
ORGANIZER;CN="Friends of the Natick Drama Workshop":MAILTO:staff@natickdramaworkshop.com
END:VEVENT
BEGIN:VEVENT
DTSTART;TZID=America/New_York:20250316T140000
DTEND;TZID=America/New_York:20250316T160000
DTSTAMP:20260420T123825
CREATED:20250228T161457Z
LAST-MODIFIED:20250228T161837Z
UID:10007171-1742133600-1742140800@natickcenter.org
SUMMARY:Nottingham: A Totally Teen Musical
DESCRIPTION:Tickets available at natickdramaworkshop.com. \nIt’s 1961 at Nottingham High\, where life is groovy… unless you’re from the wrong side of the tracks! John Prince\, the rich\, popular class president\, is stealing from the poor Saxons to keep the Normans happy. But things are about to get wild when Robin Loxley returns for her senior year! A fierce advocate for justice\, Robin teams up with former all-state quarterback Little John and a ragtag crew of not-so-merry people to take down the Normans. But what happens when Robin meets Marion\, a Norman who’s not so bad after all? Will Robin reunite the cliques\, stop the injustices\, and make it to prom in time? You won’t want to miss this totally tubular show.
URL:https://natickcenter.org/event/nottingham-a-totally-teen-musical/2025-03-16/
LOCATION:Wilson Middle School
CATEGORIES:Children's Events,Community Events,Family Friendly,Performances,Teen Events
ORGANIZER;CN="Friends of the Natick Drama Workshop":MAILTO:staff@natickdramaworkshop.com
END:VEVENT
BEGIN:VEVENT
DTSTART;TZID=America/New_York:20250317T190000
DTEND;TZID=America/New_York:20250317T200000
DTSTAMP:20260420T123825
CREATED:20250211T184317Z
LAST-MODIFIED:20250211T184408Z
UID:10007157-1742238000-1742241600@natickcenter.org
SUMMARY:Virtual: Irish Whiskey – History & Recommendations with Travis Ireland of the Friskey Whiskey Podcast
DESCRIPTION:How perfect is this for St. Paddy’s Day? Travis IRELAND of The Friskey Whiskey Podcast will join us to discuss the history of Irish whiskeys and the best he’s encountered! \nThis program is presented by the Bacon Free Library and Ashland Public Library in partnership with a multitude of MA & NH libraries.  The program is sponsored by the Friends of the Ashland Public Library. \n  \nPLEASE REGISTER HERE FOR THE ZOOM LINK. \n  \nAbout Travis:\nTravis Ireland\, co-host of The Friskey Whiskey Podcast\, is an IT professional by day and a whiskey aficionado by passion. He brings his knowledge and expertise to the podcast\, discussing various distilleries\, tasting notes\, and industry trends. Through The Friskey Whiskey\, Travis aims to educate\, entertain\, and share his profound appreciation for whiskey. \n\n\n\n  \nRECORDING NOTE: This program will be recorded. All registrants will receive the recording via email within 48 hours of the program
URL:https://natickcenter.org/event/bflwhiskey25/
LOCATION:Bacon Free Library – 58 Eliot Street  Natick\, MA 01760 United States
END:VEVENT
BEGIN:VEVENT
DTSTART;TZID=America/New_York:20250319T180000
DTEND;TZID=America/New_York:20250319T190000
DTSTAMP:20260420T123825
CREATED:20250211T184616Z
LAST-MODIFIED:20250211T184616Z
UID:10007158-1742407200-1742410800@natickcenter.org
SUMMARY:Virtual: W.F.K. Travers’ Lincoln Portrait
DESCRIPTION:At nine feet tall\, Travers’ Lincoln portrait is impressive. This portrait of the 16th president has been praised by those who knew him as more lifelike than any other. Exhibited at the US Capitol\, the 1876 Centennial Exposition in Philadelphia\, and the Union League Club in New York\, among other important places\, this portrait eventually found a home in the Hartley Dodge Memorial in Madison\, NJ. Mallory Mortillaro will share her first-hand account of researching this painting and the stories she uncovered as she leads the audience through this painting’s fascinating provenance. The portrait is currently on loan to the Smithsonian’s National Portrait Gallery. \nMallory Mortillaro is an art historian and educator. She has ten years of teaching experience and has worked on various art research projects for museums and organizations in the New York metropolitan area. She studied at Drew University. Mallory resides in New Jersey with her husband and daughter. \nThis program will be held over Zoom. Please register to receive the meeting link. 
URL:https://natickcenter.org/event/bfllincoln25/
LOCATION:Bacon Free Library – 58 Eliot Street  Natick\, MA 01760 United States
END:VEVENT
BEGIN:VEVENT
DTSTART;TZID=America/New_York:20250322T090000
DTEND;TZID=America/New_York:20250322T130000
DTSTAMP:20260420T123825
CREATED:20240530T175812Z
LAST-MODIFIED:20250508T231407Z
UID:10006753-1742634000-1742648400@natickcenter.org
SUMMARY:Natick Farmers Market
DESCRIPTION:The Natick Farmers Market is a year-round program of the Natick Center Cultural District and is open every Saturday from 9 am to 1 pm. \n\nVisit natickfarmersmarket.org for current location and vendors. \nSpring and Summer\nNatick Town Common\nThe intersection of Routes 27 and 135\nNatick \n\nFall and Winter\nCommon Street Spiritual Center\n13 Common Street\nNatick
URL:https://natickcenter.org/event/natick-farmers-market/2025-03-22/
LOCATION:Natick Common
CATEGORIES:Community Events,FREE
ATTACH;FMTTYPE=image/png:https://natickcenter.org/wp-content/uploads/2019/11/NatickFarmersMarket.png
END:VEVENT
BEGIN:VEVENT
DTSTART;TZID=America/New_York:20250322T100000
DTEND;TZID=America/New_York:20250322T110000
DTSTAMP:20260420T123825
CREATED:20250218T180714Z
LAST-MODIFIED:20250301T192501Z
UID:10007161-1742637600-1742641200@natickcenter.org
SUMMARY:Art Across the Globe
DESCRIPTION:Madhubani Workshop \nWatch & learn from Artist Gayatri Verma \nWhat to expect: \n1. To get the best out of the demo\, we recommend that you listen and observe the instructions during the workshop and paint the artwork later. \n2. Meet the artist. \n3. Q&A session with the artists. \n4. Access the workshop video for 3-weeks and complete your artwork. \n5. Share your artwork with fellow participants and the organizers. \nSponsored by Natick Center Cultural District and facilitated by Artsy Way of Life \nREGISTER HERE
URL:https://natickcenter.org/event/art-across-the-globe-4/
LOCATION:Online
ATTACH;FMTTYPE=image/png:https://natickcenter.org/wp-content/uploads/2025/02/March-2025-Art-Across-the-Globe-2160-x-1080-px-1.png
END:VEVENT
BEGIN:VEVENT
DTSTART;TZID=America/New_York:20250322T130000
DTEND;TZID=America/New_York:20250322T140000
DTSTAMP:20260420T123825
CREATED:20250203T160625Z
LAST-MODIFIED:20250203T160625Z
UID:10007155-1742648400-1742652000@natickcenter.org
SUMMARY:Terrific Turtles Live Animal Program
DESCRIPTION:Spring Nature Family Events\nAt First Congregational Church\, Natick\, 2 East Central St\, Natick\, MA \nTerrific Turtles\nLive Animal Program\nSaturday\, March 22\, 1:00-2:00 pm \n$5.00 per person advance ticket sales only \nWhat is the difference between a turtle and a tortoise? How big can a sea turtle grow? Are all turtle shells the same? Find out for yourself! Learn more about our wonderful shelled friends and meet some real turtles! For ages 6+ Presented by Joy Marzolf\, The Joys of Nature \n\nFCC is handicapped accessible. Parking available in side parking lot and street.\nAll children must be accompanied by and sitting with an adult for these events.\nThese programs are for children ages 6+\n\nTickets must be purchased in advanced and may be purchased by: \n\nVenmo\, email fcc_events@firstchurchnatick.org\nEventbrite tickets (fees apply)\n\nThis program is supported in part by a grant from the Natick Cultural Council\, a local agency which is supported by the Mass Cultural Council\, a state agency.
URL:https://natickcenter.org/event/terrific-turtles-live-animal-program/
LOCATION:2 East Central Street\, Natick\, MA
CATEGORIES:Education,Family Friendly
ATTACH;FMTTYPE=image/jpeg:https://natickcenter.org/wp-content/uploads/2025/02/FCC-2025-Terrific-Turtles-Live-Program.jpg
END:VEVENT
BEGIN:VEVENT
DTSTART;TZID=America/New_York:20250325T180000
DTEND;TZID=America/New_York:20250325T190000
DTSTAMP:20260420T123825
CREATED:20250211T185843Z
LAST-MODIFIED:20250324T175326Z
UID:10007160-1742925600-1742929200@natickcenter.org
SUMMARY:Virtual: Grow your Leafy Greens
DESCRIPTION:Would you like to learn how to grow the most nutritionally dense food on the planet?  The experts at Blackstone Valley Veggie Gardens have you covered.  In this virtual program hosted by the Bacon Free Library\, you’ll learn how to successfully grow kale\, spinach\, chard\, and lettuce using a variety of methods.\n\n\n\n\nThis program will be held over Zoom. Please register below to receive the program link. 
URL:https://natickcenter.org/event/bflgreens325/
CATEGORIES:Library
LOCATION:
END:VEVENT
BEGIN:VEVENT
DTSTART;TZID=America/New_York:20250325T180000
DTEND;TZID=America/New_York:20250325T193000
DTSTAMP:20260420T123825
CREATED:20250320T200844Z
LAST-MODIFIED:20250320T200844Z
UID:10007178-1742925600-1742931000@natickcenter.org
SUMMARY:Caregiver Support Group: Making Caregiver Self-Care a Necessity
DESCRIPTION:If you are caring for a loved one with Alzheimer’s or other dementia\, join us at our monthly support group. Connect and share stories with people who understand the challenges you face in a safe\, supportive\, and engaging environment. \nShare a springtime charcuterie board and assorted refreshments with us. \nRSVP by Friday\, March 21\, 2025\, with Jolanda Pressey\, jpressey@residencenaticksouth.com\, 774-231-0900.
URL:https://natickcenter.org/event/caregiver-support-group-making-caregiver-self-care-a-necessity/
LOCATION:The Residence at Natick South\, 119 E Central Street\, Natick\, MA\, 01760\, United States
ATTACH;FMTTYPE=image/jpeg:https://natickcenter.org/wp-content/uploads/2025/03/unnamed-10.jpg
ORGANIZER;CN="Residence Natick South":MAILTO:jpressey@residencenaticksouth.com
END:VEVENT
BEGIN:VEVENT
DTSTART;TZID=America/New_York:20250329T090000
DTEND;TZID=America/New_York:20250329T130000
DTSTAMP:20260420T123825
CREATED:20240530T175812Z
LAST-MODIFIED:20250508T231407Z
UID:10006754-1743238800-1743253200@natickcenter.org
SUMMARY:Natick Farmers Market
DESCRIPTION:The Natick Farmers Market is a year-round program of the Natick Center Cultural District and is open every Saturday from 9 am to 1 pm. \n\nVisit natickfarmersmarket.org for current location and vendors. \nSpring and Summer\nNatick Town Common\nThe intersection of Routes 27 and 135\nNatick \n\nFall and Winter\nCommon Street Spiritual Center\n13 Common Street\nNatick
URL:https://natickcenter.org/event/natick-farmers-market/2025-03-29/
LOCATION:Natick Common
CATEGORIES:Community Events,FREE
ATTACH;FMTTYPE=image/png:https://natickcenter.org/wp-content/uploads/2019/11/NatickFarmersMarket.png
END:VEVENT
END:VCALENDAR