BEGIN:VCALENDAR
VERSION:2.0
PRODID:-//The Natick Center Cultural District - ECPv6.15.20//NONSGML v1.0//EN
CALSCALE:GREGORIAN
METHOD:PUBLISH
X-WR-CALNAME:The Natick Center Cultural District
X-ORIGINAL-URL:https://natickcenter.org
X-WR-CALDESC:Events for The Natick Center Cultural District
REFRESH-INTERVAL;VALUE=DURATION:PT1H
X-Robots-Tag:noindex
X-PUBLISHED-TTL:PT1H
BEGIN:VTIMEZONE
TZID:America/New_York
BEGIN:DAYLIGHT
TZOFFSETFROM:-0500
TZOFFSETTO:-0400
TZNAME:EDT
DTSTART:20250309T070000
END:DAYLIGHT
BEGIN:STANDARD
TZOFFSETFROM:-0400
TZOFFSETTO:-0500
TZNAME:EST
DTSTART:20251102T060000
END:STANDARD
BEGIN:DAYLIGHT
TZOFFSETFROM:-0500
TZOFFSETTO:-0400
TZNAME:EDT
DTSTART:20260308T070000
END:DAYLIGHT
BEGIN:STANDARD
TZOFFSETFROM:-0400
TZOFFSETTO:-0500
TZNAME:EST
DTSTART:20261101T060000
END:STANDARD
BEGIN:DAYLIGHT
TZOFFSETFROM:-0500
TZOFFSETTO:-0400
TZNAME:EDT
DTSTART:20270314T070000
END:DAYLIGHT
BEGIN:STANDARD
TZOFFSETFROM:-0400
TZOFFSETTO:-0500
TZNAME:EST
DTSTART:20271107T060000
END:STANDARD
END:VTIMEZONE
BEGIN:VEVENT
DTSTART;TZID=America/New_York:20260502T090000
DTEND;TZID=America/New_York:20260502T130000
DTSTAMP:20260419T192253
CREATED:20250509T164912Z
LAST-MODIFIED:20250509T165006Z
UID:10006811-1777712400-1777726800@natickcenter.org
SUMMARY:Natick Farmers Market
DESCRIPTION:The Natick Farmers Market is a year-round program of the Natick Center Cultural District and is open every Saturday from 9 am to 1 pm. \n\nVisit natickfarmersmarket.org for current location and vendors. \nSpring and Summer\nNatick Town Common\nThe intersection of Routes 27 and 135\nNatick \n\nFall and Winter\nCommon Street Spiritual Center\n13 Common Street\nNatick
URL:https://natickcenter.org/event/natick-farmers-market-2/2026-05-02/
LOCATION:Natick Common
CATEGORIES:Community Events,Featured,FREE
ATTACH;FMTTYPE=image/png:https://natickcenter.org/wp-content/uploads/2019/11/NatickFarmersMarket.png
END:VEVENT
BEGIN:VEVENT
DTSTART;TZID=America/New_York:20260502T100000
DTEND;TZID=America/New_York:20260502T120000
DTSTAMP:20260419T192253
CREATED:20260310T132641Z
LAST-MODIFIED:20260310T132641Z
UID:10007561-1777716000-1777723200@natickcenter.org
SUMMARY:Saturday Morning Pruning Lessons
DESCRIPTION:What a winter! It’s been a while since we’ve had such a cold\, snowy winter but I have some good news for you! Due to this winter’s extended snowpack\, Radiant Leaf has decided to run a limited number of Saturday morning pruning lessons March 21 – May 2. \nThe snow is melting away\, so let’s sharpen those pruners\, gear up\, and complete that critical dormant pruning. Both Beginner Home Pruning Lessons and Co-pruning Sessions are a solid 2-hours in length – plenty of time to address your pruning punch list.\n \nAnother Bonus: The first ten clients to book a Saturday will receive one TAFI pruning saw as a gift for being a weekend warrior!\n\nOur Client Services Specialist\, Tia Kelly\, is ready to book your Saturday beginner home pruning lesson or co-pruning session.\n\nContact Tia via email at hello@radiantleaf.com.
URL:https://natickcenter.org/event/saturday-morning-pruning-lessons/2026-05-02/
CATEGORIES:Community Events
ATTACH;FMTTYPE=image/jpeg:https://natickcenter.org/wp-content/uploads/2026/03/unnamed-20.jpg
END:VEVENT
BEGIN:VEVENT
DTSTART;TZID=America/New_York:20260509T090000
DTEND;TZID=America/New_York:20260509T130000
DTSTAMP:20260419T192253
CREATED:20250509T164912Z
LAST-MODIFIED:20250509T165006Z
UID:10006812-1778317200-1778331600@natickcenter.org
SUMMARY:Natick Farmers Market
DESCRIPTION:The Natick Farmers Market is a year-round program of the Natick Center Cultural District and is open every Saturday from 9 am to 1 pm. \n\nVisit natickfarmersmarket.org for current location and vendors. \nSpring and Summer\nNatick Town Common\nThe intersection of Routes 27 and 135\nNatick \n\nFall and Winter\nCommon Street Spiritual Center\n13 Common Street\nNatick
URL:https://natickcenter.org/event/natick-farmers-market-2/2026-05-09/
LOCATION:Natick Common
CATEGORIES:Community Events,Featured,FREE
ATTACH;FMTTYPE=image/png:https://natickcenter.org/wp-content/uploads/2019/11/NatickFarmersMarket.png
END:VEVENT
BEGIN:VEVENT
DTSTART;TZID=America/New_York:20260509T100000
DTEND;TZID=America/New_York:20260509T140000
DTSTAMP:20260419T192253
CREATED:20260415T202935Z
LAST-MODIFIED:20260415T202935Z
UID:10007579-1778320800-1778335200@natickcenter.org
SUMMARY:Farm Fest
DESCRIPTION:One of Natick Community Organic Farm’s longstanding annual events (formerly Spring Spectacular)\, this event celebrates everything there is to love about the springtime. Bring your whole family and learn about wool processing or native plants\, enjoy live music and a delicious meal from one of our food trucks\, meet the sheep and play a round of chicken plop bingo! \nWhile you’re here\, visit our annual Seedling Sale\, happening the same day (there is no admission cost to attend the Seedling Sale).
URL:https://natickcenter.org/event/farm-fest/
LOCATION:Natick Community Organic Farm
CATEGORIES:Community Events,Cultural Events,Education,Family Friendly
ATTACH;FMTTYPE=image/jpeg:https://natickcenter.org/wp-content/uploads/2026/04/Farm-Fest-Constant-Contact-banner-1.jpg
END:VEVENT
BEGIN:VEVENT
DTSTART;TZID=America/New_York:20260516T090000
DTEND;TZID=America/New_York:20260516T130000
DTSTAMP:20260419T192253
CREATED:20250509T164912Z
LAST-MODIFIED:20250509T165006Z
UID:10006813-1778922000-1778936400@natickcenter.org
SUMMARY:Natick Farmers Market
DESCRIPTION:The Natick Farmers Market is a year-round program of the Natick Center Cultural District and is open every Saturday from 9 am to 1 pm. \n\nVisit natickfarmersmarket.org for current location and vendors. \nSpring and Summer\nNatick Town Common\nThe intersection of Routes 27 and 135\nNatick \n\nFall and Winter\nCommon Street Spiritual Center\n13 Common Street\nNatick
URL:https://natickcenter.org/event/natick-farmers-market-2/2026-05-16/
LOCATION:Natick Common
CATEGORIES:Community Events,Featured,FREE
ATTACH;FMTTYPE=image/png:https://natickcenter.org/wp-content/uploads/2019/11/NatickFarmersMarket.png
END:VEVENT
BEGIN:VEVENT
DTSTART;TZID=America/New_York:20260516T140000
DTEND;TZID=America/New_York:20260516T160000
DTSTAMP:20260419T192253
CREATED:20260311T162608Z
LAST-MODIFIED:20260311T162608Z
UID:10007562-1778940000-1778947200@natickcenter.org
SUMMARY:Holi Festival
DESCRIPTION:You are invited to celebrate the vibrant multi-cultural spirit of our town during the Holi Festival! Holi (pronounced /holi/; Sanskrit: हो ली Holi) is a delightful spring festival that is joyfully celebrated in the Indian subcontinent. It is popularly known as the “festival of colors” or “festival of love.” \nJoin us for an exciting lineup of activities! You can revel in the festivities with eco-friendly dry powdered colors\, while grooving to the lively Bollywood music that our fabulous DJ has in store for you. Enjoy a Bollywood dance lesson while you attend! \nThe best part? This event is free to attend! However\, if you desire more colors or food\, you can purchase them on-site. \nWe cannot wait to see you at the Holi Festival\, where we will create wonderful memories together! \nRain Date\, May 17 from 2- 4:00 pm. \nLocation: Middlesex Savings Bank Parking Lot along Rt. 135 & Washington St.
URL:https://natickcenter.org/event/holi-festival-2/
LOCATION:Middlesex Savings Bank Parking Lot\, 6 N Main St\, Natick\, MA\, 01760
CATEGORIES:Community Events,Cultural Events,Family Friendly,Featured,FREE
ATTACH;FMTTYPE=image/png:https://natickcenter.org/wp-content/uploads/2026/03/Holi-Festival.png
END:VEVENT
BEGIN:VEVENT
DTSTART;TZID=America/New_York:20260523T090000
DTEND;TZID=America/New_York:20260523T130000
DTSTAMP:20260419T192253
CREATED:20250509T164912Z
LAST-MODIFIED:20250509T165006Z
UID:10006814-1779526800-1779541200@natickcenter.org
SUMMARY:Natick Farmers Market
DESCRIPTION:The Natick Farmers Market is a year-round program of the Natick Center Cultural District and is open every Saturday from 9 am to 1 pm. \n\nVisit natickfarmersmarket.org for current location and vendors. \nSpring and Summer\nNatick Town Common\nThe intersection of Routes 27 and 135\nNatick \n\nFall and Winter\nCommon Street Spiritual Center\n13 Common Street\nNatick
URL:https://natickcenter.org/event/natick-farmers-market-2/2026-05-23/
LOCATION:Natick Common
CATEGORIES:Community Events,Featured,FREE
ATTACH;FMTTYPE=image/png:https://natickcenter.org/wp-content/uploads/2019/11/NatickFarmersMarket.png
END:VEVENT
BEGIN:VEVENT
DTSTART;TZID=America/New_York:20260530T090000
DTEND;TZID=America/New_York:20260530T130000
DTSTAMP:20260419T192253
CREATED:20250509T164912Z
LAST-MODIFIED:20250509T165006Z
UID:10006815-1780131600-1780146000@natickcenter.org
SUMMARY:Natick Farmers Market
DESCRIPTION:The Natick Farmers Market is a year-round program of the Natick Center Cultural District and is open every Saturday from 9 am to 1 pm. \n\nVisit natickfarmersmarket.org for current location and vendors. \nSpring and Summer\nNatick Town Common\nThe intersection of Routes 27 and 135\nNatick \n\nFall and Winter\nCommon Street Spiritual Center\n13 Common Street\nNatick
URL:https://natickcenter.org/event/natick-farmers-market-2/2026-05-30/
LOCATION:Natick Common
CATEGORIES:Community Events,Featured,FREE
ATTACH;FMTTYPE=image/png:https://natickcenter.org/wp-content/uploads/2019/11/NatickFarmersMarket.png
END:VEVENT
END:VCALENDAR