BEGIN:VCALENDAR
VERSION:2.0
PRODID:-//The Natick Center Cultural District - ECPv6.15.20//NONSGML v1.0//EN
CALSCALE:GREGORIAN
METHOD:PUBLISH
X-ORIGINAL-URL:https://natickcenter.org
X-WR-CALDESC:Events for The Natick Center Cultural District
REFRESH-INTERVAL;VALUE=DURATION:PT1H
X-Robots-Tag:noindex
X-PUBLISHED-TTL:PT1H
BEGIN:VTIMEZONE
TZID:America/New_York
BEGIN:DAYLIGHT
TZOFFSETFROM:-0500
TZOFFSETTO:-0400
TZNAME:EDT
DTSTART:20250309T070000
END:DAYLIGHT
BEGIN:STANDARD
TZOFFSETFROM:-0400
TZOFFSETTO:-0500
TZNAME:EST
DTSTART:20251102T060000
END:STANDARD
BEGIN:DAYLIGHT
TZOFFSETFROM:-0500
TZOFFSETTO:-0400
TZNAME:EDT
DTSTART:20260308T070000
END:DAYLIGHT
BEGIN:STANDARD
TZOFFSETFROM:-0400
TZOFFSETTO:-0500
TZNAME:EST
DTSTART:20261101T060000
END:STANDARD
BEGIN:DAYLIGHT
TZOFFSETFROM:-0500
TZOFFSETTO:-0400
TZNAME:EDT
DTSTART:20270314T070000
END:DAYLIGHT
BEGIN:STANDARD
TZOFFSETFROM:-0400
TZOFFSETTO:-0500
TZNAME:EST
DTSTART:20271107T060000
END:STANDARD
END:VTIMEZONE
BEGIN:VEVENT
DTSTART;TZID=America/New_York:20260606T090000
DTEND;TZID=America/New_York:20260606T130000
DTSTAMP:20260419T205158
CREATED:20250509T164912Z
LAST-MODIFIED:20250509T165006Z
UID:10006816-1780736400-1780750800@natickcenter.org
SUMMARY:Natick Farmers Market
DESCRIPTION:The Natick Farmers Market is a year-round program of the Natick Center Cultural District and is open every Saturday from 9 am to 1 pm. \n\nVisit natickfarmersmarket.org for current location and vendors. \nSpring and Summer\nNatick Town Common\nThe intersection of Routes 27 and 135\nNatick \n\nFall and Winter\nCommon Street Spiritual Center\n13 Common Street\nNatick
URL:https://natickcenter.org/event/natick-farmers-market-2/2026-06-06/
LOCATION:Natick Common
CATEGORIES:Community Events,Featured,FREE
ATTACH;FMTTYPE=image/png:https://natickcenter.org/wp-content/uploads/2019/11/NatickFarmersMarket.png
END:VEVENT
BEGIN:VEVENT
DTSTART;TZID=America/New_York:20260613T090000
DTEND;TZID=America/New_York:20260613T130000
DTSTAMP:20260419T205158
CREATED:20250509T164912Z
LAST-MODIFIED:20250509T165006Z
UID:10006817-1781341200-1781355600@natickcenter.org
SUMMARY:Natick Farmers Market
DESCRIPTION:The Natick Farmers Market is a year-round program of the Natick Center Cultural District and is open every Saturday from 9 am to 1 pm. \n\nVisit natickfarmersmarket.org for current location and vendors. \nSpring and Summer\nNatick Town Common\nThe intersection of Routes 27 and 135\nNatick \n\nFall and Winter\nCommon Street Spiritual Center\n13 Common Street\nNatick
URL:https://natickcenter.org/event/natick-farmers-market-2/2026-06-13/
LOCATION:Natick Common
CATEGORIES:Community Events,Featured,FREE
ATTACH;FMTTYPE=image/png:https://natickcenter.org/wp-content/uploads/2019/11/NatickFarmersMarket.png
END:VEVENT
BEGIN:VEVENT
DTSTART;TZID=America/New_York:20260620T090000
DTEND;TZID=America/New_York:20260620T130000
DTSTAMP:20260419T205158
CREATED:20250509T164912Z
LAST-MODIFIED:20250509T165006Z
UID:10006818-1781946000-1781960400@natickcenter.org
SUMMARY:Natick Farmers Market
DESCRIPTION:The Natick Farmers Market is a year-round program of the Natick Center Cultural District and is open every Saturday from 9 am to 1 pm. \n\nVisit natickfarmersmarket.org for current location and vendors. \nSpring and Summer\nNatick Town Common\nThe intersection of Routes 27 and 135\nNatick \n\nFall and Winter\nCommon Street Spiritual Center\n13 Common Street\nNatick
URL:https://natickcenter.org/event/natick-farmers-market-2/2026-06-20/
LOCATION:Natick Common
CATEGORIES:Community Events,Featured,FREE
ATTACH;FMTTYPE=image/png:https://natickcenter.org/wp-content/uploads/2019/11/NatickFarmersMarket.png
END:VEVENT
BEGIN:VEVENT
DTSTART;TZID=America/New_York:20260620T110000
DTEND;TZID=America/New_York:20260620T130000
DTSTAMP:20260419T205158
CREATED:20260408T180412Z
LAST-MODIFIED:20260408T203027Z
UID:10007578-1781953200-1781960400@natickcenter.org
SUMMARY:Juneteenth
DESCRIPTION:Celebrate Juneteenth in Natick on Natick Common from 11:00 AM– 1:00 PM. There will be delicious food by Mig’s Dogs\, fun activities\, and musical performances by Drum Nomads\, and more. All are welcome! \nApply to host a booth here. \nLearn more about Juneteenth from the National Museum of African American History & Culture.
URL:https://natickcenter.org/event/juneteenth/
LOCATION:Natick Common
CATEGORIES:Community Events,Cultural Events,Family Friendly,Featured,FREE,History
ATTACH;FMTTYPE=image/jpeg:https://natickcenter.org/wp-content/uploads/2026/04/Juneteenth-Common-Sign-1-1.jpg
END:VEVENT
BEGIN:VEVENT
DTSTART;TZID=America/New_York:20260621T100000
DTEND;TZID=America/New_York:20260621T130000
DTSTAMP:20260419T205158
CREATED:20260323T201505Z
LAST-MODIFIED:20260323T202300Z
UID:10007574-1782036000-1782046800@natickcenter.org
SUMMARY:Tour de Natick-Family Bike Ride
DESCRIPTION:Date: Sunday\, June 21\, 2026\nTime:\n• 10:00 AM – Check-in\n• 11:00 AM – Ride begins \nLocation: Natick Common\n1 Common St\, Natick\, MA \nEvent Description:\nJoin the Rotary Club of Natick for the 23rd Annual Tour de Natick\, a fun\, family-friendly 6-mile bike ride through town. The ride begins and ends at Natick Common and is suitable for riders of all ages and abilities. After the ride\, participants are invited to enjoy a complimentary cookout on the Common. \nProceeds support the Rotary Club of Natick’s charitable foundation\, including scholarships for Natick High School seniors and educational programs benefiting local students. \nRegistration – Early Bird Pricing!\n• $55 family / $30 individual through May 31\n• $65 family / $40 individual starting June 1 \nAdditional Details:\n• 6-mile family-friendly route\n• T-shirts included (while supplies last)\n• Bike raffle and community cookout following the ride\n• Event held rain or shine
URL:https://natickcenter.org/event/tour-de-natick-family-bike-ride/
LOCATION:Natick Common
CATEGORIES:Children's Events,Community Events,Family Friendly,Fundraising
ATTACH;FMTTYPE=image/jpeg:https://natickcenter.org/wp-content/uploads/2026/03/tdn-start-pre-2022.jpg
END:VEVENT
BEGIN:VEVENT
DTSTART;TZID=America/New_York:20260625T170000
DTEND;TZID=America/New_York:20260625T200000
DTSTAMP:20260419T205158
CREATED:20260205T172950Z
LAST-MODIFIED:20260414T145153Z
UID:10007544-1782406800-1782417600@natickcenter.org
SUMMARY:Natick Nights 2026!: PRIDE
DESCRIPTION:Join us for a fantastic evening of food\, shopping\, and family-friendly entertainment in the vibrant Natick Center Cultural District. Sponsored by Drink Dion’s Wine Spirits & Market. \nApply to run an activity booth here. \nBeer Garden on Common Street: Featuring drinks from Lookout Farm\, and Stateside/Surfside Vodka Teas  \nOn Natick Common: \nFeaturing: \nMusical Guest: Max Klau Band\nBalloon Art with Jonah’s Twisters\, Face Painting with Imagine That\, and booths that support the LGBTQIA+ community. \nPublic bathrooms are located at Natick Town Hall & the Morse Institute Library \nKeep checking back for updates!
URL:https://natickcenter.org/event/natick-nights-2026-june/
LOCATION:Natick Town Common – Corner of RT135 and RT27
CATEGORIES:Community Events,Family Friendly,Featured,FREE,Music,Performances
ATTACH;FMTTYPE=image/png:https://natickcenter.org/wp-content/uploads/2026/02/Copy-of-Natick-Nights-Facebook-Cover.png
END:VEVENT
BEGIN:VEVENT
DTSTART;TZID=America/New_York:20260627T090000
DTEND;TZID=America/New_York:20260627T130000
DTSTAMP:20260419T205158
CREATED:20250509T164912Z
LAST-MODIFIED:20250509T165006Z
UID:10006819-1782550800-1782565200@natickcenter.org
SUMMARY:Natick Farmers Market
DESCRIPTION:The Natick Farmers Market is a year-round program of the Natick Center Cultural District and is open every Saturday from 9 am to 1 pm. \n\nVisit natickfarmersmarket.org for current location and vendors. \nSpring and Summer\nNatick Town Common\nThe intersection of Routes 27 and 135\nNatick \n\nFall and Winter\nCommon Street Spiritual Center\n13 Common Street\nNatick
URL:https://natickcenter.org/event/natick-farmers-market-2/2026-06-27/
LOCATION:Natick Common
CATEGORIES:Community Events,Featured,FREE
ATTACH;FMTTYPE=image/png:https://natickcenter.org/wp-content/uploads/2019/11/NatickFarmersMarket.png
END:VEVENT
END:VCALENDAR