BEGIN:VCALENDAR
VERSION:2.0
PRODID:-//The Natick Center Cultural District - ECPv6.15.20//NONSGML v1.0//EN
CALSCALE:GREGORIAN
METHOD:PUBLISH
X-ORIGINAL-URL:https://natickcenter.org
X-WR-CALDESC:Events for The Natick Center Cultural District
REFRESH-INTERVAL;VALUE=DURATION:PT1H
X-Robots-Tag:noindex
X-PUBLISHED-TTL:PT1H
BEGIN:VTIMEZONE
TZID:America/New_York
BEGIN:DAYLIGHT
TZOFFSETFROM:-0500
TZOFFSETTO:-0400
TZNAME:EDT
DTSTART:20260308T070000
END:DAYLIGHT
BEGIN:STANDARD
TZOFFSETFROM:-0400
TZOFFSETTO:-0500
TZNAME:EST
DTSTART:20261101T060000
END:STANDARD
BEGIN:DAYLIGHT
TZOFFSETFROM:-0500
TZOFFSETTO:-0400
TZNAME:EDT
DTSTART:20270314T070000
END:DAYLIGHT
BEGIN:STANDARD
TZOFFSETFROM:-0400
TZOFFSETTO:-0500
TZNAME:EST
DTSTART:20271107T060000
END:STANDARD
BEGIN:DAYLIGHT
TZOFFSETFROM:-0500
TZOFFSETTO:-0400
TZNAME:EDT
DTSTART:20280312T070000
END:DAYLIGHT
BEGIN:STANDARD
TZOFFSETFROM:-0400
TZOFFSETTO:-0500
TZNAME:EST
DTSTART:20281105T060000
END:STANDARD
END:VTIMEZONE
BEGIN:VEVENT
DTSTART;TZID=America/New_York:20270102T090000
DTEND;TZID=America/New_York:20270102T130000
DTSTAMP:20260420T063656
CREATED:20250509T164912Z
LAST-MODIFIED:20250509T165006Z
UID:10006846-1798880400-1798894800@natickcenter.org
SUMMARY:Natick Farmers Market
DESCRIPTION:The Natick Farmers Market is a year-round program of the Natick Center Cultural District and is open every Saturday from 9 am to 1 pm. \n\nVisit natickfarmersmarket.org for current location and vendors. \nSpring and Summer\nNatick Town Common\nThe intersection of Routes 27 and 135\nNatick \n\nFall and Winter\nCommon Street Spiritual Center\n13 Common Street\nNatick
URL:https://natickcenter.org/event/natick-farmers-market-2/2027-01-02/
LOCATION:Natick Common
CATEGORIES:Community Events,Featured,FREE
ATTACH;FMTTYPE=image/png:https://natickcenter.org/wp-content/uploads/2019/11/NatickFarmersMarket.png
END:VEVENT
BEGIN:VEVENT
DTSTART;TZID=America/New_York:20270109T090000
DTEND;TZID=America/New_York:20270109T130000
DTSTAMP:20260420T063656
CREATED:20250509T164912Z
LAST-MODIFIED:20250509T165006Z
UID:10006847-1799485200-1799499600@natickcenter.org
SUMMARY:Natick Farmers Market
DESCRIPTION:The Natick Farmers Market is a year-round program of the Natick Center Cultural District and is open every Saturday from 9 am to 1 pm. \n\nVisit natickfarmersmarket.org for current location and vendors. \nSpring and Summer\nNatick Town Common\nThe intersection of Routes 27 and 135\nNatick \n\nFall and Winter\nCommon Street Spiritual Center\n13 Common Street\nNatick
URL:https://natickcenter.org/event/natick-farmers-market-2/2027-01-09/
LOCATION:Natick Common
CATEGORIES:Community Events,Featured,FREE
ATTACH;FMTTYPE=image/png:https://natickcenter.org/wp-content/uploads/2019/11/NatickFarmersMarket.png
END:VEVENT
BEGIN:VEVENT
DTSTART;TZID=America/New_York:20270116T090000
DTEND;TZID=America/New_York:20270116T130000
DTSTAMP:20260420T063656
CREATED:20250509T164912Z
LAST-MODIFIED:20250509T165006Z
UID:10006848-1800090000-1800104400@natickcenter.org
SUMMARY:Natick Farmers Market
DESCRIPTION:The Natick Farmers Market is a year-round program of the Natick Center Cultural District and is open every Saturday from 9 am to 1 pm. \n\nVisit natickfarmersmarket.org for current location and vendors. \nSpring and Summer\nNatick Town Common\nThe intersection of Routes 27 and 135\nNatick \n\nFall and Winter\nCommon Street Spiritual Center\n13 Common Street\nNatick
URL:https://natickcenter.org/event/natick-farmers-market-2/2027-01-16/
LOCATION:Natick Common
CATEGORIES:Community Events,Featured,FREE
ATTACH;FMTTYPE=image/png:https://natickcenter.org/wp-content/uploads/2019/11/NatickFarmersMarket.png
END:VEVENT
BEGIN:VEVENT
DTSTART;TZID=America/New_York:20270123T090000
DTEND;TZID=America/New_York:20270123T130000
DTSTAMP:20260420T063656
CREATED:20250509T164912Z
LAST-MODIFIED:20250509T165006Z
UID:10006849-1800694800-1800709200@natickcenter.org
SUMMARY:Natick Farmers Market
DESCRIPTION:The Natick Farmers Market is a year-round program of the Natick Center Cultural District and is open every Saturday from 9 am to 1 pm. \n\nVisit natickfarmersmarket.org for current location and vendors. \nSpring and Summer\nNatick Town Common\nThe intersection of Routes 27 and 135\nNatick \n\nFall and Winter\nCommon Street Spiritual Center\n13 Common Street\nNatick
URL:https://natickcenter.org/event/natick-farmers-market-2/2027-01-23/
LOCATION:Natick Common
CATEGORIES:Community Events,Featured,FREE
ATTACH;FMTTYPE=image/png:https://natickcenter.org/wp-content/uploads/2019/11/NatickFarmersMarket.png
END:VEVENT
BEGIN:VEVENT
DTSTART;TZID=America/New_York:20270130T090000
DTEND;TZID=America/New_York:20270130T130000
DTSTAMP:20260420T063656
CREATED:20250509T164912Z
LAST-MODIFIED:20250509T165006Z
UID:10006850-1801299600-1801314000@natickcenter.org
SUMMARY:Natick Farmers Market
DESCRIPTION:The Natick Farmers Market is a year-round program of the Natick Center Cultural District and is open every Saturday from 9 am to 1 pm. \n\nVisit natickfarmersmarket.org for current location and vendors. \nSpring and Summer\nNatick Town Common\nThe intersection of Routes 27 and 135\nNatick \n\nFall and Winter\nCommon Street Spiritual Center\n13 Common Street\nNatick
URL:https://natickcenter.org/event/natick-farmers-market-2/2027-01-30/
LOCATION:Natick Common
CATEGORIES:Community Events,Featured,FREE
ATTACH;FMTTYPE=image/png:https://natickcenter.org/wp-content/uploads/2019/11/NatickFarmersMarket.png
END:VEVENT
END:VCALENDAR